BEGIN:VCALENDAR
PRODID:-//bodybyparis.co.nz//EN
VERSION:2.0
METHOD:PUBLISH
BEGIN:VEVENT
DTSTART;TZID=America/New_York:20150421T060000
DTEND;TZID=America/New_York:20150515T070000
URL:http://bodybyparis.co.nz/schedule/s-t-a-r-s-team-training-2/
SUMMARY:S.T.A.R.S Team Training
END:VEVENT
END:VCALENDAR