BEGIN:VCALENDAR
PRODID:-//bodybyparis.co.nz//EN
VERSION:2.0
METHOD:PUBLISH
BEGIN:VEVENT
DTSTART;TZID=America/New_York:20150320T090000
DTEND;TZID=America/New_York:20151120T100000
URL:http://bodybyparis.co.nz/schedule/merchandise-orders/
SUMMARY:Merchandise Orders
END:VEVENT
END:VCALENDAR