BEGIN:VCALENDAR
PRODID:-//bodybyparis.co.nz//EN
VERSION:2.0
METHOD:PUBLISH
BEGIN:VEVENT
DTSTART;TZID=America/New_York:20150426T160000
DTEND;TZID=America/New_York:20150426T170000
URL:http://bodybyparis.co.nz/schedule/8-week-challenge/
SUMMARY:8 Week Challenge
END:VEVENT
END:VCALENDAR