BEGIN:VCALENDAR
PRODID:-//bodybyparis.co.nz//EN
VERSION:2.0
METHOD:PUBLISH
BEGIN:VEVENT
DTSTART;TZID=America/New_York:20150221T090000
DTEND;TZID=America/New_York:20150627T100000
URL:http://bodybyparis.co.nz/schedule/open-session/
SUMMARY:Open Session
END:VEVENT
END:VCALENDAR